BEGIN:VCALENDAR
VERSION:2.0
PRODID:http://www.kufer.de/kuferweb / DE
METHOD:PUBLISH
CALSCALE:GREGORIAN
X-WR-TIMEZONE:Europe/Berlin
BEGIN:VTIMEZONE
TZID:Europe/Berlin
X-LIC-LOCATION:Europe/Berlin
BEGIN:DAYLIGHT
TZOFFSETFROM:+0100
TZOFFSETTO:+0200
TZNAME:CEST
DTSTART;TZID=Europe/Berlin:19700329T020000
RRULE:FREQ=YEARLY;INTERVAL=1;BYDAY=-1SU;BYMONTH=3
END:DAYLIGHT
BEGIN:STANDARD
TZOFFSETFROM:+0200
TZOFFSETTO:+0100
TZNAME:CET
DTSTART;TZID=Europe/Berlin:19701025T030000
RRULE:FREQ=YEARLY;INTERVAL=1;BYDAY=-1SU;BYMONTH=10
END:STANDARD
END:VTIMEZONE
BEGIN:VEVENT
DTSTAMP:20260420T122715
DTSTART;TZID=Europe/Berlin:20260413T170000
DTEND;TZID=Europe/Berlin:20260413T193000
UID:261-16021-20260413T170000@VHSSTADE
SUMMARY:Bridge - eine lebenslange Passion Anfänger*innenkurs Teil 2 (261-16021) 
LOCATION:Pestalozzi-Schule, Thuner Str. 71, Raum 5, Thuner Str. 71, 21680 Stade
END:VEVENT
BEGIN:VEVENT
DTSTAMP:20260420T122715
DTSTART;TZID=Europe/Berlin:20260420T170000
DTEND;TZID=Europe/Berlin:20260420T193000
UID:261-16021-20260420T170000@VHSSTADE
SUMMARY:Bridge - eine lebenslange Passion Anfänger*innenkurs Teil 2 (261-16021) 
LOCATION:Pestalozzi-Schule, Thuner Str. 71, Raum 5, Thuner Str. 71, 21680 Stade
END:VEVENT
BEGIN:VEVENT
DTSTAMP:20260420T122715
DTSTART;TZID=Europe/Berlin:20260427T170000
DTEND;TZID=Europe/Berlin:20260427T193000
UID:261-16021-20260427T170000@VHSSTADE
SUMMARY:Bridge - eine lebenslange Passion Anfänger*innenkurs Teil 2 (261-16021) 
LOCATION:Pestalozzi-Schule, Thuner Str. 71, Raum 5, Thuner Str. 71, 21680 Stade
END:VEVENT
BEGIN:VEVENT
DTSTAMP:20260420T122715
DTSTART;TZID=Europe/Berlin:20260504T170000
DTEND;TZID=Europe/Berlin:20260504T193000
UID:261-16021-20260504T170000@VHSSTADE
SUMMARY:Bridge - eine lebenslange Passion Anfänger*innenkurs Teil 2 (261-16021) 
LOCATION:Pestalozzi-Schule, Thuner Str. 71, Raum 5, Thuner Str. 71, 21680 Stade
END:VEVENT
BEGIN:VEVENT
DTSTAMP:20260420T122715
DTSTART;TZID=Europe/Berlin:20260511T170000
DTEND;TZID=Europe/Berlin:20260511T193000
UID:261-16021-20260511T170000@VHSSTADE
SUMMARY:Bridge - eine lebenslange Passion Anfänger*innenkurs Teil 2 (261-16021) 
LOCATION:Pestalozzi-Schule, Thuner Str. 71, Raum 5, Thuner Str. 71, 21680 Stade
END:VEVENT
BEGIN:VEVENT
DTSTAMP:20260420T122715
DTSTART;TZID=Europe/Berlin:20260518T170000
DTEND;TZID=Europe/Berlin:20260518T193000
UID:261-16021-20260518T170000@VHSSTADE
SUMMARY:Bridge - eine lebenslange Passion Anfänger*innenkurs Teil 2 (261-16021) 
LOCATION:Pestalozzi-Schule, Thuner Str. 71, Raum 5, Thuner Str. 71, 21680 Stade
END:VEVENT
END:VCALENDAR