BEGIN:VCALENDAR
VERSION:2.0
PRODID:http://www.kufer.de/kuferweb / DE
METHOD:PUBLISH
CALSCALE:GREGORIAN
X-WR-TIMEZONE:Europe/Berlin
BEGIN:VTIMEZONE
TZID:Europe/Berlin
X-LIC-LOCATION:Europe/Berlin
BEGIN:DAYLIGHT
TZOFFSETFROM:+0100
TZOFFSETTO:+0200
TZNAME:CEST
DTSTART;TZID=Europe/Berlin:19700329T020000
RRULE:FREQ=YEARLY;INTERVAL=1;BYDAY=-1SU;BYMONTH=3
END:DAYLIGHT
BEGIN:STANDARD
TZOFFSETFROM:+0200
TZOFFSETTO:+0100
TZNAME:CET
DTSTART;TZID=Europe/Berlin:19701025T030000
RRULE:FREQ=YEARLY;INTERVAL=1;BYDAY=-1SU;BYMONTH=10
END:STANDARD
END:VTIMEZONE
BEGIN:VEVENT
DTSTAMP:20260420T122720
DTSTART;TZID=Europe/Berlin:20260219T193000
DTEND;TZID=Europe/Berlin:20260219T210000
UID:261-16031-20260219T193000@VHSSTADE
SUMMARY:Doppelkopf für Anfänger*innen ... oder zum Auffrischen (261-16031) 
LOCATION:Pestalozzi-Schule, Thuner Str. 71, Raum 5, Thuner Str. 71, 21680 Stade
END:VEVENT
BEGIN:VEVENT
DTSTAMP:20260420T122720
DTSTART;TZID=Europe/Berlin:20260226T193000
DTEND;TZID=Europe/Berlin:20260226T210000
UID:261-16031-20260226T193000@VHSSTADE
SUMMARY:Doppelkopf für Anfänger*innen ... oder zum Auffrischen (261-16031) 
LOCATION:Pestalozzi-Schule, Thuner Str. 71, Raum 5, Thuner Str. 71, 21680 Stade
END:VEVENT
BEGIN:VEVENT
DTSTAMP:20260420T122720
DTSTART;TZID=Europe/Berlin:20260305T191500
DTEND;TZID=Europe/Berlin:20260305T213000
UID:261-16031-20260305T191500@VHSSTADE
SUMMARY:Doppelkopf für Anfänger*innen ... oder zum Auffrischen (261-16031) 
LOCATION:Pestalozzi-Schule, Thuner Str. 71, Raum 5, Thuner Str. 71, 21680 Stade
END:VEVENT
BEGIN:VEVENT
DTSTAMP:20260420T122720
DTSTART;TZID=Europe/Berlin:20260312T191500
DTEND;TZID=Europe/Berlin:20260312T213000
UID:261-16031-20260312T191500@VHSSTADE
SUMMARY:Doppelkopf für Anfänger*innen ... oder zum Auffrischen (261-16031) 
LOCATION:Pestalozzi-Schule, Thuner Str. 71, Raum 5, Thuner Str. 71, 21680 Stade
END:VEVENT
END:VCALENDAR