BEGIN:VCALENDAR
VERSION:2.0
PRODID:http://www.kufer.de/kuferweb / DE
METHOD:PUBLISH
CALSCALE:GREGORIAN
X-WR-TIMEZONE:Europe/Berlin
BEGIN:VTIMEZONE
TZID:Europe/Berlin
X-LIC-LOCATION:Europe/Berlin
BEGIN:DAYLIGHT
TZOFFSETFROM:+0100
TZOFFSETTO:+0200
TZNAME:CEST
DTSTART;TZID=Europe/Berlin:19700329T020000
RRULE:FREQ=YEARLY;INTERVAL=1;BYDAY=-1SU;BYMONTH=3
END:DAYLIGHT
BEGIN:STANDARD
TZOFFSETFROM:+0200
TZOFFSETTO:+0100
TZNAME:CET
DTSTART;TZID=Europe/Berlin:19701025T030000
RRULE:FREQ=YEARLY;INTERVAL=1;BYDAY=-1SU;BYMONTH=10
END:STANDARD
END:VTIMEZONE
BEGIN:VEVENT
DTSTAMP:20260420T122609
DTSTART;TZID=Europe/Berlin:20260223T083000
DTEND;TZID=Europe/Berlin:20260223T163000
UID:261-55501-20260223T083000@VHSSTADE
SUMMARY:Künstliche Intelligenz verstehen und anwenden - BU (261-55501) 
LOCATION:vhs-Haus, Wallstr. 17, Raum 13 - EDV, Wallstr. 17, 21682 Stade
END:VEVENT
BEGIN:VEVENT
DTSTAMP:20260420T122609
DTSTART;TZID=Europe/Berlin:20260224T083000
DTEND;TZID=Europe/Berlin:20260224T163000
UID:261-55501-20260224T083000@VHSSTADE
SUMMARY:Künstliche Intelligenz verstehen und anwenden - BU (261-55501) 
LOCATION:vhs-Haus, Wallstr. 17, Raum 13 - EDV, Wallstr. 17, 21682 Stade
END:VEVENT
BEGIN:VEVENT
DTSTAMP:20260420T122609
DTSTART;TZID=Europe/Berlin:20260225T083000
DTEND;TZID=Europe/Berlin:20260225T163000
UID:261-55501-20260225T083000@VHSSTADE
SUMMARY:Künstliche Intelligenz verstehen und anwenden - BU (261-55501) 
LOCATION:vhs-Haus, Wallstr. 17, Raum 13 - EDV, Wallstr. 17, 21682 Stade
END:VEVENT
END:VCALENDAR