BEGIN:VCALENDAR
VERSION:2.0
PRODID:http://www.kufer.de/kuferweb / DE
METHOD:PUBLISH
CALSCALE:GREGORIAN
X-WR-TIMEZONE:Europe/Berlin
BEGIN:VTIMEZONE
TZID:Europe/Berlin
X-LIC-LOCATION:Europe/Berlin
BEGIN:DAYLIGHT
TZOFFSETFROM:+0100
TZOFFSETTO:+0200
TZNAME:CEST
DTSTART;TZID=Europe/Berlin:19700329T020000
RRULE:FREQ=YEARLY;INTERVAL=1;BYDAY=-1SU;BYMONTH=3
END:DAYLIGHT
BEGIN:STANDARD
TZOFFSETFROM:+0200
TZOFFSETTO:+0100
TZNAME:CET
DTSTART;TZID=Europe/Berlin:19701025T030000
RRULE:FREQ=YEARLY;INTERVAL=1;BYDAY=-1SU;BYMONTH=10
END:STANDARD
END:VTIMEZONE
BEGIN:VEVENT
DTSTAMP:20260421T094411
DTSTART;TZID=Europe/Berlin:20260210T093000
DTEND;TZID=Europe/Berlin:20260210T110000
UID:261-74311-20260210T093000@VHSSTADE
SUMMARY:Italienisch am Vormittag (A1) für Best Ager - moderates Lerntempo Für Teilnehmende mit Grundkenntnissen (261-74311) 
LOCATION:vhs-Haus, Wallstr. 17, Raum 10, Wallstr. 17, 21682 Stade
END:VEVENT
BEGIN:VEVENT
DTSTAMP:20260421T094411
DTSTART;TZID=Europe/Berlin:20260217T093000
DTEND;TZID=Europe/Berlin:20260217T110000
UID:261-74311-20260217T093000@VHSSTADE
SUMMARY:Italienisch am Vormittag (A1) für Best Ager - moderates Lerntempo Für Teilnehmende mit Grundkenntnissen (261-74311) 
LOCATION:vhs-Haus, Wallstr. 17, Raum 10, Wallstr. 17, 21682 Stade
END:VEVENT
BEGIN:VEVENT
DTSTAMP:20260421T094411
DTSTART;TZID=Europe/Berlin:20260224T093000
DTEND;TZID=Europe/Berlin:20260224T110000
UID:261-74311-20260224T093000@VHSSTADE
SUMMARY:Italienisch am Vormittag (A1) für Best Ager - moderates Lerntempo Für Teilnehmende mit Grundkenntnissen (261-74311) 
LOCATION:vhs-Haus, Wallstr. 17, Raum 10, Wallstr. 17, 21682 Stade
END:VEVENT
BEGIN:VEVENT
DTSTAMP:20260421T094411
DTSTART;TZID=Europe/Berlin:20260303T093000
DTEND;TZID=Europe/Berlin:20260303T110000
UID:261-74311-20260303T093000@VHSSTADE
SUMMARY:Italienisch am Vormittag (A1) für Best Ager - moderates Lerntempo Für Teilnehmende mit Grundkenntnissen (261-74311) 
LOCATION:vhs-Haus, Wallstr. 17, Raum 10, Wallstr. 17, 21682 Stade
END:VEVENT
BEGIN:VEVENT
DTSTAMP:20260421T094411
DTSTART;TZID=Europe/Berlin:20260310T093000
DTEND;TZID=Europe/Berlin:20260310T110000
UID:261-74311-20260310T093000@VHSSTADE
SUMMARY:Italienisch am Vormittag (A1) für Best Ager - moderates Lerntempo Für Teilnehmende mit Grundkenntnissen (261-74311) 
LOCATION:vhs-Haus, Wallstr. 17, Raum 10, Wallstr. 17, 21682 Stade
END:VEVENT
BEGIN:VEVENT
DTSTAMP:20260421T094411
DTSTART;TZID=Europe/Berlin:20260317T093000
DTEND;TZID=Europe/Berlin:20260317T110000
UID:261-74311-20260317T093000@VHSSTADE
SUMMARY:Italienisch am Vormittag (A1) für Best Ager - moderates Lerntempo Für Teilnehmende mit Grundkenntnissen (261-74311) 
LOCATION:vhs-Haus, Wallstr. 17, Raum 10, Wallstr. 17, 21682 Stade
END:VEVENT
BEGIN:VEVENT
DTSTAMP:20260421T094411
DTSTART;TZID=Europe/Berlin:20260414T093000
DTEND;TZID=Europe/Berlin:20260414T110000
UID:261-74311-20260414T093000@VHSSTADE
SUMMARY:Italienisch am Vormittag (A1) für Best Ager - moderates Lerntempo Für Teilnehmende mit Grundkenntnissen (261-74311) 
LOCATION:vhs-Haus, Wallstr. 17, Raum 10, Wallstr. 17, 21682 Stade
END:VEVENT
BEGIN:VEVENT
DTSTAMP:20260421T094411
DTSTART;TZID=Europe/Berlin:20260421T093000
DTEND;TZID=Europe/Berlin:20260421T110000
UID:261-74311-20260421T093000@VHSSTADE
SUMMARY:Italienisch am Vormittag (A1) für Best Ager - moderates Lerntempo Für Teilnehmende mit Grundkenntnissen (261-74311) 
LOCATION:vhs-Haus, Wallstr. 17, Raum 10, Wallstr. 17, 21682 Stade
END:VEVENT
BEGIN:VEVENT
DTSTAMP:20260421T094411
DTSTART;TZID=Europe/Berlin:20260428T093000
DTEND;TZID=Europe/Berlin:20260428T110000
UID:261-74311-20260428T093000@VHSSTADE
SUMMARY:Italienisch am Vormittag (A1) für Best Ager - moderates Lerntempo Für Teilnehmende mit Grundkenntnissen (261-74311) 
LOCATION:vhs-Haus, Wallstr. 17, Raum 10, Wallstr. 17, 21682 Stade
END:VEVENT
BEGIN:VEVENT
DTSTAMP:20260421T094411
DTSTART;TZID=Europe/Berlin:20260505T093000
DTEND;TZID=Europe/Berlin:20260505T110000
UID:261-74311-20260505T093000@VHSSTADE
SUMMARY:Italienisch am Vormittag (A1) für Best Ager - moderates Lerntempo Für Teilnehmende mit Grundkenntnissen (261-74311) 
LOCATION:vhs-Haus, Wallstr. 17, Raum 10, Wallstr. 17, 21682 Stade
END:VEVENT
BEGIN:VEVENT
DTSTAMP:20260421T094411
DTSTART;TZID=Europe/Berlin:20260512T093000
DTEND;TZID=Europe/Berlin:20260512T110000
UID:261-74311-20260512T093000@VHSSTADE
SUMMARY:Italienisch am Vormittag (A1) für Best Ager - moderates Lerntempo Für Teilnehmende mit Grundkenntnissen (261-74311) 
LOCATION:vhs-Haus, Wallstr. 17, Raum 10, Wallstr. 17, 21682 Stade
END:VEVENT
BEGIN:VEVENT
DTSTAMP:20260421T094411
DTSTART;TZID=Europe/Berlin:20260519T093000
DTEND;TZID=Europe/Berlin:20260519T110000
UID:261-74311-20260519T093000@VHSSTADE
SUMMARY:Italienisch am Vormittag (A1) für Best Ager - moderates Lerntempo Für Teilnehmende mit Grundkenntnissen (261-74311) 
LOCATION:vhs-Haus, Wallstr. 17, Raum 10, Wallstr. 17, 21682 Stade
END:VEVENT
END:VCALENDAR