BEGIN:VCALENDAR
VERSION:2.0
PRODID:http://www.kufer.de/kuferweb / DE
METHOD:PUBLISH
CALSCALE:GREGORIAN
X-WR-TIMEZONE:Europe/Berlin
BEGIN:VTIMEZONE
TZID:Europe/Berlin
X-LIC-LOCATION:Europe/Berlin
BEGIN:DAYLIGHT
TZOFFSETFROM:+0100
TZOFFSETTO:+0200
TZNAME:CEST
DTSTART;TZID=Europe/Berlin:19700329T020000
RRULE:FREQ=YEARLY;INTERVAL=1;BYDAY=-1SU;BYMONTH=3
END:DAYLIGHT
BEGIN:STANDARD
TZOFFSETFROM:+0200
TZOFFSETTO:+0100
TZNAME:CET
DTSTART;TZID=Europe/Berlin:19701025T030000
RRULE:FREQ=YEARLY;INTERVAL=1;BYDAY=-1SU;BYMONTH=10
END:STANDARD
END:VTIMEZONE
BEGIN:VEVENT
DTSTAMP:20260423T143232
DTSTART;TZID=Europe/Berlin:20260211T093000
DTEND;TZID=Europe/Berlin:20260211T110000
UID:261-76301-20260211T093000@VHSSTADE
SUMMARY:Spanisch Anfängerkurs (A1) am Vormittag für Best Ager Für Teilnehmende mit Vorkenntnissen (261-76301) 
LOCATION:Pestalozzi-Schule, Thuner Str. 71, Raum 2, Thuner Str. 71, 21680 Stade
END:VEVENT
BEGIN:VEVENT
DTSTAMP:20260423T143232
DTSTART;TZID=Europe/Berlin:20260218T093000
DTEND;TZID=Europe/Berlin:20260218T110000
UID:261-76301-20260218T093000@VHSSTADE
SUMMARY:Spanisch Anfängerkurs (A1) am Vormittag für Best Ager Für Teilnehmende mit Vorkenntnissen (261-76301) 
LOCATION:Pestalozzi-Schule, Thuner Str. 71, Raum 2, Thuner Str. 71, 21680 Stade
END:VEVENT
BEGIN:VEVENT
DTSTAMP:20260423T143232
DTSTART;TZID=Europe/Berlin:20260225T093000
DTEND;TZID=Europe/Berlin:20260225T110000
UID:261-76301-20260225T093000@VHSSTADE
SUMMARY:Spanisch Anfängerkurs (A1) am Vormittag für Best Ager Für Teilnehmende mit Vorkenntnissen (261-76301) 
LOCATION:Pestalozzi-Schule, Thuner Str. 71, Raum 2, Thuner Str. 71, 21680 Stade
END:VEVENT
BEGIN:VEVENT
DTSTAMP:20260423T143232
DTSTART;TZID=Europe/Berlin:20260304T093000
DTEND;TZID=Europe/Berlin:20260304T110000
UID:261-76301-20260304T093000@VHSSTADE
SUMMARY:Spanisch Anfängerkurs (A1) am Vormittag für Best Ager Für Teilnehmende mit Vorkenntnissen (261-76301) 
LOCATION:Pestalozzi-Schule, Thuner Str. 71, Raum 2, Thuner Str. 71, 21680 Stade
END:VEVENT
BEGIN:VEVENT
DTSTAMP:20260423T143232
DTSTART;TZID=Europe/Berlin:20260311T093000
DTEND;TZID=Europe/Berlin:20260311T110000
UID:261-76301-20260311T093000@VHSSTADE
SUMMARY:Spanisch Anfängerkurs (A1) am Vormittag für Best Ager Für Teilnehmende mit Vorkenntnissen (261-76301) 
LOCATION:Pestalozzi-Schule, Thuner Str. 71, Raum 2, Thuner Str. 71, 21680 Stade
END:VEVENT
BEGIN:VEVENT
DTSTAMP:20260423T143232
DTSTART;TZID=Europe/Berlin:20260318T093000
DTEND;TZID=Europe/Berlin:20260318T110000
UID:261-76301-20260318T093000@VHSSTADE
SUMMARY:Spanisch Anfängerkurs (A1) am Vormittag für Best Ager Für Teilnehmende mit Vorkenntnissen (261-76301) 
LOCATION:Pestalozzi-Schule, Thuner Str. 71, Raum 2, Thuner Str. 71, 21680 Stade
END:VEVENT
END:VCALENDAR