BEGIN:VCALENDAR
VERSION:2.0
PRODID:http://www.kufer.de/kuferweb / DE
METHOD:PUBLISH
CALSCALE:GREGORIAN
X-WR-TIMEZONE:Europe/Berlin
BEGIN:VTIMEZONE
TZID:Europe/Berlin
X-LIC-LOCATION:Europe/Berlin
BEGIN:DAYLIGHT
TZOFFSETFROM:+0100
TZOFFSETTO:+0200
TZNAME:CEST
DTSTART;TZID=Europe/Berlin:19700329T020000
RRULE:FREQ=YEARLY;INTERVAL=1;BYDAY=-1SU;BYMONTH=3
END:DAYLIGHT
BEGIN:STANDARD
TZOFFSETFROM:+0200
TZOFFSETTO:+0100
TZNAME:CET
DTSTART;TZID=Europe/Berlin:19701025T030000
RRULE:FREQ=YEARLY;INTERVAL=1;BYDAY=-1SU;BYMONTH=10
END:STANDARD
END:VTIMEZONE
BEGIN:VEVENT
DTSTAMP:20260421T204904
DTSTART;TZID=Europe/Berlin:20260209T090000
DTEND;TZID=Europe/Berlin:20260209T095500
UID:261-93015-20260209T090000@VHSSTADE
SUMMARY:Wirbelsäulengymnastik (261-93015) 
LOCATION:Eulsete-Halle, Mehrzweckraum, Marktstraße 5 a, Himmelpforten
END:VEVENT
BEGIN:VEVENT
DTSTAMP:20260421T204904
DTSTART;TZID=Europe/Berlin:20260216T090000
DTEND;TZID=Europe/Berlin:20260216T095500
UID:261-93015-20260216T090000@VHSSTADE
SUMMARY:Wirbelsäulengymnastik (261-93015) 
LOCATION:Eulsete-Halle, Mehrzweckraum, Marktstraße 5 a, Himmelpforten
END:VEVENT
BEGIN:VEVENT
DTSTAMP:20260421T204904
DTSTART;TZID=Europe/Berlin:20260223T090000
DTEND;TZID=Europe/Berlin:20260223T095500
UID:261-93015-20260223T090000@VHSSTADE
SUMMARY:Wirbelsäulengymnastik (261-93015) 
LOCATION:Eulsete-Halle, Mehrzweckraum, Marktstraße 5 a, Himmelpforten
END:VEVENT
BEGIN:VEVENT
DTSTAMP:20260421T204904
DTSTART;TZID=Europe/Berlin:20260302T090000
DTEND;TZID=Europe/Berlin:20260302T095500
UID:261-93015-20260302T090000@VHSSTADE
SUMMARY:Wirbelsäulengymnastik (261-93015) 
LOCATION:Eulsete-Halle, Mehrzweckraum, Marktstraße 5 a, Himmelpforten
END:VEVENT
BEGIN:VEVENT
DTSTAMP:20260421T204904
DTSTART;TZID=Europe/Berlin:20260309T090000
DTEND;TZID=Europe/Berlin:20260309T095500
UID:261-93015-20260309T090000@VHSSTADE
SUMMARY:Wirbelsäulengymnastik (261-93015) 
LOCATION:Eulsete-Halle, Mehrzweckraum, Marktstraße 5 a, Himmelpforten
END:VEVENT
BEGIN:VEVENT
DTSTAMP:20260421T204904
DTSTART;TZID=Europe/Berlin:20260316T090000
DTEND;TZID=Europe/Berlin:20260316T095500
UID:261-93015-20260316T090000@VHSSTADE
SUMMARY:Wirbelsäulengymnastik (261-93015) 
LOCATION:Eulsete-Halle, Mehrzweckraum, Marktstraße 5 a, Himmelpforten
END:VEVENT
BEGIN:VEVENT
DTSTAMP:20260421T204904
DTSTART;TZID=Europe/Berlin:20260413T090000
DTEND;TZID=Europe/Berlin:20260413T095500
UID:261-93015-20260413T090000@VHSSTADE
SUMMARY:Wirbelsäulengymnastik (261-93015) 
LOCATION:Eulsete-Halle, Mehrzweckraum, Marktstraße 5 a, Himmelpforten
END:VEVENT
BEGIN:VEVENT
DTSTAMP:20260421T204904
DTSTART;TZID=Europe/Berlin:20260420T090000
DTEND;TZID=Europe/Berlin:20260420T095500
UID:261-93015-20260420T090000@VHSSTADE
SUMMARY:Wirbelsäulengymnastik (261-93015) 
LOCATION:Eulsete-Halle, Mehrzweckraum, Marktstraße 5 a, Himmelpforten
END:VEVENT
BEGIN:VEVENT
DTSTAMP:20260421T204904
DTSTART;TZID=Europe/Berlin:20260427T090000
DTEND;TZID=Europe/Berlin:20260427T095500
UID:261-93015-20260427T090000@VHSSTADE
SUMMARY:Wirbelsäulengymnastik (261-93015) 
LOCATION:Eulsete-Halle, Mehrzweckraum, Marktstraße 5 a, Himmelpforten
END:VEVENT
BEGIN:VEVENT
DTSTAMP:20260421T204904
DTSTART;TZID=Europe/Berlin:20260504T090000
DTEND;TZID=Europe/Berlin:20260504T095500
UID:261-93015-20260504T090000@VHSSTADE
SUMMARY:Wirbelsäulengymnastik (261-93015) 
LOCATION:Eulsete-Halle, Mehrzweckraum, Marktstraße 5 a, Himmelpforten
END:VEVENT
BEGIN:VEVENT
DTSTAMP:20260421T204904
DTSTART;TZID=Europe/Berlin:20260511T090000
DTEND;TZID=Europe/Berlin:20260511T095500
UID:261-93015-20260511T090000@VHSSTADE
SUMMARY:Wirbelsäulengymnastik (261-93015) 
LOCATION:Eulsete-Halle, Mehrzweckraum, Marktstraße 5 a, Himmelpforten
END:VEVENT
BEGIN:VEVENT
DTSTAMP:20260421T204904
DTSTART;TZID=Europe/Berlin:20260518T090000
DTEND;TZID=Europe/Berlin:20260518T095500
UID:261-93015-20260518T090000@VHSSTADE
SUMMARY:Wirbelsäulengymnastik (261-93015) 
LOCATION:Eulsete-Halle, Mehrzweckraum, Marktstraße 5 a, Himmelpforten
END:VEVENT
END:VCALENDAR