BEGIN:VCALENDAR
VERSION:2.0
PRODID:http://www.kufer.de/kuferweb / DE
METHOD:PUBLISH
CALSCALE:GREGORIAN
X-WR-TIMEZONE:Europe/Berlin
BEGIN:VTIMEZONE
TZID:Europe/Berlin
X-LIC-LOCATION:Europe/Berlin
BEGIN:DAYLIGHT
TZOFFSETFROM:+0100
TZOFFSETTO:+0200
TZNAME:CEST
DTSTART;TZID=Europe/Berlin:19700329T020000
RRULE:FREQ=YEARLY;INTERVAL=1;BYDAY=-1SU;BYMONTH=3
END:DAYLIGHT
BEGIN:STANDARD
TZOFFSETFROM:+0200
TZOFFSETTO:+0100
TZNAME:CET
DTSTART;TZID=Europe/Berlin:19701025T030000
RRULE:FREQ=YEARLY;INTERVAL=1;BYDAY=-1SU;BYMONTH=10
END:STANDARD
END:VTIMEZONE
BEGIN:VEVENT
DTSTAMP:20260423T155811
DTSTART;TZID=Europe/Berlin:20260209T093000
DTEND;TZID=Europe/Berlin:20260209T110000
UID:261-95102-20260209T093000@VHSSTADE
SUMMARY:Hatha-Yoga für alle Übungsstufen (261-95102) 
LOCATION:Dorfgemeinschaftshaus Krautsand e.V., , 21706 Drochtersen
END:VEVENT
BEGIN:VEVENT
DTSTAMP:20260423T155811
DTSTART;TZID=Europe/Berlin:20260216T093000
DTEND;TZID=Europe/Berlin:20260216T110000
UID:261-95102-20260216T093000@VHSSTADE
SUMMARY:Hatha-Yoga für alle Übungsstufen (261-95102) 
LOCATION:Dorfgemeinschaftshaus Krautsand e.V., , 21706 Drochtersen
END:VEVENT
BEGIN:VEVENT
DTSTAMP:20260423T155811
DTSTART;TZID=Europe/Berlin:20260223T093000
DTEND;TZID=Europe/Berlin:20260223T110000
UID:261-95102-20260223T093000@VHSSTADE
SUMMARY:Hatha-Yoga für alle Übungsstufen (261-95102) 
LOCATION:Dorfgemeinschaftshaus Krautsand e.V., , 21706 Drochtersen
END:VEVENT
BEGIN:VEVENT
DTSTAMP:20260423T155811
DTSTART;TZID=Europe/Berlin:20260302T093000
DTEND;TZID=Europe/Berlin:20260302T110000
UID:261-95102-20260302T093000@VHSSTADE
SUMMARY:Hatha-Yoga für alle Übungsstufen (261-95102) 
LOCATION:Dorfgemeinschaftshaus Krautsand e.V., , 21706 Drochtersen
END:VEVENT
BEGIN:VEVENT
DTSTAMP:20260423T155811
DTSTART;TZID=Europe/Berlin:20260309T093000
DTEND;TZID=Europe/Berlin:20260309T110000
UID:261-95102-20260309T093000@VHSSTADE
SUMMARY:Hatha-Yoga für alle Übungsstufen (261-95102) 
LOCATION:Dorfgemeinschaftshaus Krautsand e.V., , 21706 Drochtersen
END:VEVENT
BEGIN:VEVENT
DTSTAMP:20260423T155811
DTSTART;TZID=Europe/Berlin:20260316T093000
DTEND;TZID=Europe/Berlin:20260316T110000
UID:261-95102-20260316T093000@VHSSTADE
SUMMARY:Hatha-Yoga für alle Übungsstufen (261-95102) 
LOCATION:Dorfgemeinschaftshaus Krautsand e.V., , 21706 Drochtersen
END:VEVENT
BEGIN:VEVENT
DTSTAMP:20260423T155811
DTSTART;TZID=Europe/Berlin:20260413T093000
DTEND;TZID=Europe/Berlin:20260413T110000
UID:261-95102-20260413T093000@VHSSTADE
SUMMARY:Hatha-Yoga für alle Übungsstufen (261-95102) 
LOCATION:Dorfgemeinschaftshaus Krautsand e.V., , 21706 Drochtersen
END:VEVENT
BEGIN:VEVENT
DTSTAMP:20260423T155811
DTSTART;TZID=Europe/Berlin:20260420T093000
DTEND;TZID=Europe/Berlin:20260420T110000
UID:261-95102-20260420T093000@VHSSTADE
SUMMARY:Hatha-Yoga für alle Übungsstufen (261-95102) 
LOCATION:Dorfgemeinschaftshaus Krautsand e.V., , 21706 Drochtersen
END:VEVENT
BEGIN:VEVENT
DTSTAMP:20260423T155811
DTSTART;TZID=Europe/Berlin:20260427T093000
DTEND;TZID=Europe/Berlin:20260427T110000
UID:261-95102-20260427T093000@VHSSTADE
SUMMARY:Hatha-Yoga für alle Übungsstufen (261-95102) 
LOCATION:Dorfgemeinschaftshaus Krautsand e.V., , 21706 Drochtersen
END:VEVENT
BEGIN:VEVENT
DTSTAMP:20260423T155811
DTSTART;TZID=Europe/Berlin:20260504T093000
DTEND;TZID=Europe/Berlin:20260504T110000
UID:261-95102-20260504T093000@VHSSTADE
SUMMARY:Hatha-Yoga für alle Übungsstufen (261-95102) 
LOCATION:Dorfgemeinschaftshaus Krautsand e.V., , 21706 Drochtersen
END:VEVENT
BEGIN:VEVENT
DTSTAMP:20260423T155811
DTSTART;TZID=Europe/Berlin:20260511T093000
DTEND;TZID=Europe/Berlin:20260511T110000
UID:261-95102-20260511T093000@VHSSTADE
SUMMARY:Hatha-Yoga für alle Übungsstufen (261-95102) 
LOCATION:Dorfgemeinschaftshaus Krautsand e.V., , 21706 Drochtersen
END:VEVENT
BEGIN:VEVENT
DTSTAMP:20260423T155811
DTSTART;TZID=Europe/Berlin:20260518T093000
DTEND;TZID=Europe/Berlin:20260518T110000
UID:261-95102-20260518T093000@VHSSTADE
SUMMARY:Hatha-Yoga für alle Übungsstufen (261-95102) 
LOCATION:Dorfgemeinschaftshaus Krautsand e.V., , 21706 Drochtersen
END:VEVENT
END:VCALENDAR