BEGIN:VCALENDAR
VERSION:2.0
PRODID:http://www.kufer.de/kuferweb / DE
METHOD:PUBLISH
CALSCALE:GREGORIAN
X-WR-TIMEZONE:Europe/Berlin
BEGIN:VTIMEZONE
TZID:Europe/Berlin
X-LIC-LOCATION:Europe/Berlin
BEGIN:DAYLIGHT
TZOFFSETFROM:+0100
TZOFFSETTO:+0200
TZNAME:CEST
DTSTART;TZID=Europe/Berlin:19700329T020000
RRULE:FREQ=YEARLY;INTERVAL=1;BYDAY=-1SU;BYMONTH=3
END:DAYLIGHT
BEGIN:STANDARD
TZOFFSETFROM:+0200
TZOFFSETTO:+0100
TZNAME:CET
DTSTART;TZID=Europe/Berlin:19701025T030000
RRULE:FREQ=YEARLY;INTERVAL=1;BYDAY=-1SU;BYMONTH=10
END:STANDARD
END:VTIMEZONE
BEGIN:VEVENT
DTSTAMP:20260420T122700
DTSTART;TZID=Europe/Berlin:20260507T173000
DTEND;TZID=Europe/Berlin:20260507T184500
UID:261-95271-20260507T173000@VHSSTADE
SUMMARY:Hui Chun Gong für Anfänger*innen (261-95271) 
LOCATION:vhs-Haus, Wallstr. 17, Raum 34, Wallstr. 17, 21682 Stade
END:VEVENT
BEGIN:VEVENT
DTSTAMP:20260420T122700
DTSTART;TZID=Europe/Berlin:20260521T173000
DTEND;TZID=Europe/Berlin:20260521T184500
UID:261-95271-20260521T173000@VHSSTADE
SUMMARY:Hui Chun Gong für Anfänger*innen (261-95271) 
LOCATION:vhs-Haus, Wallstr. 17, Raum 34, Wallstr. 17, 21682 Stade
END:VEVENT
BEGIN:VEVENT
DTSTAMP:20260420T122700
DTSTART;TZID=Europe/Berlin:20260528T173000
DTEND;TZID=Europe/Berlin:20260528T184500
UID:261-95271-20260528T173000@VHSSTADE
SUMMARY:Hui Chun Gong für Anfänger*innen (261-95271) 
LOCATION:vhs-Haus, Wallstr. 17, Raum 34, Wallstr. 17, 21682 Stade
END:VEVENT
BEGIN:VEVENT
DTSTAMP:20260420T122700
DTSTART;TZID=Europe/Berlin:20260604T173000
DTEND;TZID=Europe/Berlin:20260604T184500
UID:261-95271-20260604T173000@VHSSTADE
SUMMARY:Hui Chun Gong für Anfänger*innen (261-95271) 
LOCATION:vhs-Haus, Wallstr. 17, Raum 34, Wallstr. 17, 21682 Stade
END:VEVENT
BEGIN:VEVENT
DTSTAMP:20260420T122700
DTSTART;TZID=Europe/Berlin:20260611T173000
DTEND;TZID=Europe/Berlin:20260611T184500
UID:261-95271-20260611T173000@VHSSTADE
SUMMARY:Hui Chun Gong für Anfänger*innen (261-95271) 
LOCATION:vhs-Haus, Wallstr. 17, Raum 34, Wallstr. 17, 21682 Stade
END:VEVENT
BEGIN:VEVENT
DTSTAMP:20260420T122700
DTSTART;TZID=Europe/Berlin:20260618T173000
DTEND;TZID=Europe/Berlin:20260618T184500
UID:261-95271-20260618T173000@VHSSTADE
SUMMARY:Hui Chun Gong für Anfänger*innen (261-95271) 
LOCATION:vhs-Haus, Wallstr. 17, Raum 34, Wallstr. 17, 21682 Stade
END:VEVENT
END:VCALENDAR