BEGIN:VCALENDAR
VERSION:2.0
PRODID:http://www.kufer.de/kuferweb / DE
METHOD:PUBLISH
CALSCALE:GREGORIAN
X-WR-TIMEZONE:Europe/Berlin
BEGIN:VTIMEZONE
TZID:Europe/Berlin
X-LIC-LOCATION:Europe/Berlin
BEGIN:DAYLIGHT
TZOFFSETFROM:+0100
TZOFFSETTO:+0200
TZNAME:CEST
DTSTART;TZID=Europe/Berlin:19700329T020000
RRULE:FREQ=YEARLY;INTERVAL=1;BYDAY=-1SU;BYMONTH=3
END:DAYLIGHT
BEGIN:STANDARD
TZOFFSETFROM:+0200
TZOFFSETTO:+0100
TZNAME:CET
DTSTART;TZID=Europe/Berlin:19701025T030000
RRULE:FREQ=YEARLY;INTERVAL=1;BYDAY=-1SU;BYMONTH=10
END:STANDARD
END:VTIMEZONE
BEGIN:VEVENT
DTSTAMP:20260423T155744
DTSTART;TZID=Europe/Berlin:20260206T083000
DTEND;TZID=Europe/Berlin:20260206T091500
UID:261-96001-20260206T083000@VHSSTADE
SUMMARY:Aqua-Fitness (261-96001) 
LOCATION:Erlebnisbad Solemio; Aktivbecken, Am Exerzierplatz, 21680 Stade
END:VEVENT
BEGIN:VEVENT
DTSTAMP:20260423T155744
DTSTART;TZID=Europe/Berlin:20260213T083000
DTEND;TZID=Europe/Berlin:20260213T091500
UID:261-96001-20260213T083000@VHSSTADE
SUMMARY:Aqua-Fitness (261-96001) 
LOCATION:Erlebnisbad Solemio; Aktivbecken, Am Exerzierplatz, 21680 Stade
END:VEVENT
BEGIN:VEVENT
DTSTAMP:20260423T155744
DTSTART;TZID=Europe/Berlin:20260220T083000
DTEND;TZID=Europe/Berlin:20260220T091500
UID:261-96001-20260220T083000@VHSSTADE
SUMMARY:Aqua-Fitness (261-96001) 
LOCATION:Erlebnisbad Solemio; Aktivbecken, Am Exerzierplatz, 21680 Stade
END:VEVENT
BEGIN:VEVENT
DTSTAMP:20260423T155744
DTSTART;TZID=Europe/Berlin:20260227T083000
DTEND;TZID=Europe/Berlin:20260227T091500
UID:261-96001-20260227T083000@VHSSTADE
SUMMARY:Aqua-Fitness (261-96001) 
LOCATION:Erlebnisbad Solemio; Aktivbecken, Am Exerzierplatz, 21680 Stade
END:VEVENT
BEGIN:VEVENT
DTSTAMP:20260423T155744
DTSTART;TZID=Europe/Berlin:20260306T083000
DTEND;TZID=Europe/Berlin:20260306T091500
UID:261-96001-20260306T083000@VHSSTADE
SUMMARY:Aqua-Fitness (261-96001) 
LOCATION:Erlebnisbad Solemio; Aktivbecken, Am Exerzierplatz, 21680 Stade
END:VEVENT
BEGIN:VEVENT
DTSTAMP:20260423T155744
DTSTART;TZID=Europe/Berlin:20260313T083000
DTEND;TZID=Europe/Berlin:20260313T091500
UID:261-96001-20260313T083000@VHSSTADE
SUMMARY:Aqua-Fitness (261-96001) 
LOCATION:Erlebnisbad Solemio; Aktivbecken, Am Exerzierplatz, 21680 Stade
END:VEVENT
BEGIN:VEVENT
DTSTAMP:20260423T155744
DTSTART;TZID=Europe/Berlin:20260410T083000
DTEND;TZID=Europe/Berlin:20260410T091500
UID:261-96001-20260410T083000@VHSSTADE
SUMMARY:Aqua-Fitness (261-96001) 
LOCATION:Erlebnisbad Solemio; Aktivbecken, Am Exerzierplatz, 21680 Stade
END:VEVENT
BEGIN:VEVENT
DTSTAMP:20260423T155744
DTSTART;TZID=Europe/Berlin:20260417T083000
DTEND;TZID=Europe/Berlin:20260417T091500
UID:261-96001-20260417T083000@VHSSTADE
SUMMARY:Aqua-Fitness (261-96001) 
LOCATION:Erlebnisbad Solemio; Aktivbecken, Am Exerzierplatz, 21680 Stade
END:VEVENT
BEGIN:VEVENT
DTSTAMP:20260423T155744
DTSTART;TZID=Europe/Berlin:20260424T083000
DTEND;TZID=Europe/Berlin:20260424T091500
UID:261-96001-20260424T083000@VHSSTADE
SUMMARY:Aqua-Fitness (261-96001) 
LOCATION:Erlebnisbad Solemio; Aktivbecken, Am Exerzierplatz, 21680 Stade
END:VEVENT
BEGIN:VEVENT
DTSTAMP:20260423T155744
DTSTART;TZID=Europe/Berlin:20260508T083000
DTEND;TZID=Europe/Berlin:20260508T091500
UID:261-96001-20260508T083000@VHSSTADE
SUMMARY:Aqua-Fitness (261-96001) 
LOCATION:Erlebnisbad Solemio; Aktivbecken, Am Exerzierplatz, 21680 Stade
END:VEVENT
END:VCALENDAR