BEGIN:VCALENDAR
VERSION:2.0
PRODID:http://www.kufer.de/kuferweb / DE
METHOD:PUBLISH
CALSCALE:GREGORIAN
X-WR-TIMEZONE:Europe/Berlin
BEGIN:VTIMEZONE
TZID:Europe/Berlin
X-LIC-LOCATION:Europe/Berlin
BEGIN:DAYLIGHT
TZOFFSETFROM:+0100
TZOFFSETTO:+0200
TZNAME:CEST
DTSTART;TZID=Europe/Berlin:19700329T020000
RRULE:FREQ=YEARLY;INTERVAL=1;BYDAY=-1SU;BYMONTH=3
END:DAYLIGHT
BEGIN:STANDARD
TZOFFSETFROM:+0200
TZOFFSETTO:+0100
TZNAME:CET
DTSTART;TZID=Europe/Berlin:19701025T030000
RRULE:FREQ=YEARLY;INTERVAL=1;BYDAY=-1SU;BYMONTH=10
END:STANDARD
END:VTIMEZONE
BEGIN:VEVENT
DTSTAMP:20260420T111014
DTSTART;TZID=Europe/Berlin:20261005T083000
DTEND;TZID=Europe/Berlin:20261005T163000
UID:262-54511-20261005T083000@VHSSTADE
SUMMARY:Smart Work: Digitales Selbstmanagement -  BU Tools, Tipps & Tricks zur digitalen Selbstorganisation (262-54511) 
LOCATION:vhs-Haus, Wallstr. 17, Raum 13 - EDV, Wallstr. 17, 21682 Stade
END:VEVENT
BEGIN:VEVENT
DTSTAMP:20260420T111014
DTSTART;TZID=Europe/Berlin:20261006T083000
DTEND;TZID=Europe/Berlin:20261006T163000
UID:262-54511-20261006T083000@VHSSTADE
SUMMARY:Smart Work: Digitales Selbstmanagement -  BU Tools, Tipps & Tricks zur digitalen Selbstorganisation (262-54511) 
LOCATION:vhs-Haus, Wallstr. 17, Raum 13 - EDV, Wallstr. 17, 21682 Stade
END:VEVENT
BEGIN:VEVENT
DTSTAMP:20260420T111014
DTSTART;TZID=Europe/Berlin:20261007T083000
DTEND;TZID=Europe/Berlin:20261007T163000
UID:262-54511-20261007T083000@VHSSTADE
SUMMARY:Smart Work: Digitales Selbstmanagement -  BU Tools, Tipps & Tricks zur digitalen Selbstorganisation (262-54511) 
LOCATION:vhs-Haus, Wallstr. 17, Raum 13 - EDV, Wallstr. 17, 21682 Stade
END:VEVENT
BEGIN:VEVENT
DTSTAMP:20260420T111014
DTSTART;TZID=Europe/Berlin:20261008T083000
DTEND;TZID=Europe/Berlin:20261008T163000
UID:262-54511-20261008T083000@VHSSTADE
SUMMARY:Smart Work: Digitales Selbstmanagement -  BU Tools, Tipps & Tricks zur digitalen Selbstorganisation (262-54511) 
LOCATION:vhs-Haus, Wallstr. 17, Raum 13 - EDV, Wallstr. 17, 21682 Stade
END:VEVENT
BEGIN:VEVENT
DTSTAMP:20260420T111014
DTSTART;TZID=Europe/Berlin:20261009T083000
DTEND;TZID=Europe/Berlin:20261009T163000
UID:262-54511-20261009T083000@VHSSTADE
SUMMARY:Smart Work: Digitales Selbstmanagement -  BU Tools, Tipps & Tricks zur digitalen Selbstorganisation (262-54511) 
LOCATION:vhs-Haus, Wallstr. 17, Raum 13 - EDV, Wallstr. 17, 21682 Stade
END:VEVENT
END:VCALENDAR