BEGIN:VCALENDAR
VERSION:2.0
PRODID:http://www.kufer.de/kuferweb / DE
METHOD:PUBLISH
CALSCALE:GREGORIAN
X-WR-TIMEZONE:Europe/Berlin
BEGIN:VTIMEZONE
TZID:Europe/Berlin
X-LIC-LOCATION:Europe/Berlin
BEGIN:DAYLIGHT
TZOFFSETFROM:+0100
TZOFFSETTO:+0200
TZNAME:CEST
DTSTART;TZID=Europe/Berlin:19700329T020000
RRULE:FREQ=YEARLY;INTERVAL=1;BYDAY=-1SU;BYMONTH=3
END:DAYLIGHT
BEGIN:STANDARD
TZOFFSETFROM:+0200
TZOFFSETTO:+0100
TZNAME:CET
DTSTART;TZID=Europe/Berlin:19701025T030000
RRULE:FREQ=YEARLY;INTERVAL=1;BYDAY=-1SU;BYMONTH=10
END:STANDARD
END:VTIMEZONE
BEGIN:VEVENT
DTSTAMP:20260420T122710
DTSTART;TZID=Europe/Berlin:20260915T180000
DTEND;TZID=Europe/Berlin:20260915T193000
UID:262-67041-20260915T180000@VHSSTADE
SUMMARY:Erfolgreich bewerben - strukturiert und passgenau für Berufseinstieg und Neuorientierung (262-67041) 
LOCATION:vhs-Haus, Wallstr. 17, Raum 14, Wallstr. 17, 21682 Stade
END:VEVENT
BEGIN:VEVENT
DTSTAMP:20260420T122710
DTSTART;TZID=Europe/Berlin:20260922T180000
DTEND;TZID=Europe/Berlin:20260922T193000
UID:262-67041-20260922T180000@VHSSTADE
SUMMARY:Erfolgreich bewerben - strukturiert und passgenau für Berufseinstieg und Neuorientierung (262-67041) 
LOCATION:vhs-Haus, Wallstr. 17, Raum 14, Wallstr. 17, 21682 Stade
END:VEVENT
BEGIN:VEVENT
DTSTAMP:20260420T122710
DTSTART;TZID=Europe/Berlin:20260929T180000
DTEND;TZID=Europe/Berlin:20260929T193000
UID:262-67041-20260929T180000@VHSSTADE
SUMMARY:Erfolgreich bewerben - strukturiert und passgenau für Berufseinstieg und Neuorientierung (262-67041) 
LOCATION:vhs-Haus, Wallstr. 17, Raum 14, Wallstr. 17, 21682 Stade
END:VEVENT
BEGIN:VEVENT
DTSTAMP:20260420T122710
DTSTART;TZID=Europe/Berlin:20261006T180000
DTEND;TZID=Europe/Berlin:20261006T193000
UID:262-67041-20261006T180000@VHSSTADE
SUMMARY:Erfolgreich bewerben - strukturiert und passgenau für Berufseinstieg und Neuorientierung (262-67041) 
LOCATION:vhs-Haus, Wallstr. 17, Raum 14, Wallstr. 17, 21682 Stade
END:VEVENT
END:VCALENDAR