BEGIN:VCALENDAR
VERSION:2.0
PRODID:http://www.kufer.de/kuferweb / DE
METHOD:PUBLISH
CALSCALE:GREGORIAN
X-WR-TIMEZONE:Europe/Berlin
BEGIN:VTIMEZONE
TZID:Europe/Berlin
X-LIC-LOCATION:Europe/Berlin
BEGIN:DAYLIGHT
TZOFFSETFROM:+0100
TZOFFSETTO:+0200
TZNAME:CEST
DTSTART;TZID=Europe/Berlin:19700329T020000
RRULE:FREQ=YEARLY;INTERVAL=1;BYDAY=-1SU;BYMONTH=3
END:DAYLIGHT
BEGIN:STANDARD
TZOFFSETFROM:+0200
TZOFFSETTO:+0100
TZNAME:CET
DTSTART;TZID=Europe/Berlin:19701025T030000
RRULE:FREQ=YEARLY;INTERVAL=1;BYDAY=-1SU;BYMONTH=10
END:STANDARD
END:VTIMEZONE
BEGIN:VEVENT
DTSTAMP:20260423T155633
DTSTART;TZID=Europe/Berlin:20260902T113000
DTEND;TZID=Europe/Berlin:20260902T130000
UID:262-76321-20260902T113000@VHSSTADE
SUMMARY:Spanisch II (A1) am Vormittag Crash Kurs für die Reise Auffrischungskurs für Best Ager (262-76321) 
LOCATION:vhs-Haus, Wallstr. 17, Raum 08, Wallstr. 17, 21682 Stade
END:VEVENT
BEGIN:VEVENT
DTSTAMP:20260423T155633
DTSTART;TZID=Europe/Berlin:20260909T113000
DTEND;TZID=Europe/Berlin:20260909T130000
UID:262-76321-20260909T113000@VHSSTADE
SUMMARY:Spanisch II (A1) am Vormittag Crash Kurs für die Reise Auffrischungskurs für Best Ager (262-76321) 
LOCATION:vhs-Haus, Wallstr. 17, Raum 08, Wallstr. 17, 21682 Stade
END:VEVENT
BEGIN:VEVENT
DTSTAMP:20260423T155633
DTSTART;TZID=Europe/Berlin:20260916T113000
DTEND;TZID=Europe/Berlin:20260916T130000
UID:262-76321-20260916T113000@VHSSTADE
SUMMARY:Spanisch II (A1) am Vormittag Crash Kurs für die Reise Auffrischungskurs für Best Ager (262-76321) 
LOCATION:vhs-Haus, Wallstr. 17, Raum 08, Wallstr. 17, 21682 Stade
END:VEVENT
BEGIN:VEVENT
DTSTAMP:20260423T155633
DTSTART;TZID=Europe/Berlin:20260923T113000
DTEND;TZID=Europe/Berlin:20260923T130000
UID:262-76321-20260923T113000@VHSSTADE
SUMMARY:Spanisch II (A1) am Vormittag Crash Kurs für die Reise Auffrischungskurs für Best Ager (262-76321) 
LOCATION:vhs-Haus, Wallstr. 17, Raum 08, Wallstr. 17, 21682 Stade
END:VEVENT
BEGIN:VEVENT
DTSTAMP:20260423T155633
DTSTART;TZID=Europe/Berlin:20260930T113000
DTEND;TZID=Europe/Berlin:20260930T130000
UID:262-76321-20260930T113000@VHSSTADE
SUMMARY:Spanisch II (A1) am Vormittag Crash Kurs für die Reise Auffrischungskurs für Best Ager (262-76321) 
LOCATION:vhs-Haus, Wallstr. 17, Raum 08, Wallstr. 17, 21682 Stade
END:VEVENT
BEGIN:VEVENT
DTSTAMP:20260423T155633
DTSTART;TZID=Europe/Berlin:20261007T113000
DTEND;TZID=Europe/Berlin:20261007T130000
UID:262-76321-20261007T113000@VHSSTADE
SUMMARY:Spanisch II (A1) am Vormittag Crash Kurs für die Reise Auffrischungskurs für Best Ager (262-76321) 
LOCATION:vhs-Haus, Wallstr. 17, Raum 08, Wallstr. 17, 21682 Stade
END:VEVENT
END:VCALENDAR