BEGIN:VCALENDAR
VERSION:2.0
PRODID:http://www.kufer.de/kuferweb / DE
METHOD:PUBLISH
CALSCALE:GREGORIAN
X-WR-TIMEZONE:Europe/Berlin
BEGIN:VTIMEZONE
TZID:Europe/Berlin
X-LIC-LOCATION:Europe/Berlin
BEGIN:DAYLIGHT
TZOFFSETFROM:+0100
TZOFFSETTO:+0200
TZNAME:CEST
DTSTART;TZID=Europe/Berlin:19700329T020000
RRULE:FREQ=YEARLY;INTERVAL=1;BYDAY=-1SU;BYMONTH=3
END:DAYLIGHT
BEGIN:STANDARD
TZOFFSETFROM:+0200
TZOFFSETTO:+0100
TZNAME:CET
DTSTART;TZID=Europe/Berlin:19701025T030000
RRULE:FREQ=YEARLY;INTERVAL=1;BYDAY=-1SU;BYMONTH=10
END:STANDARD
END:VTIMEZONE
BEGIN:VEVENT
DTSTAMP:20260421T164327
DTSTART;TZID=Europe/Berlin:20261116T173000
DTEND;TZID=Europe/Berlin:20261116T190000
UID:271-21001-20261116T173000@VHSSTADE
DESCRIPTION:Infoabend
SUMMARY: Pädagogische Mitarbeitende an Grundschulen (im Ganztag) (vhsConcept) - Berufsbegleitende Qualifizierung - (271-21001) 
LOCATION:vhs-Haus, Wallstr. 17, Raum 14, Wallstr. 17, 21682 Stade
END:VEVENT
BEGIN:VEVENT
DTSTAMP:20260421T164327
DTSTART;TZID=Europe/Berlin:20270208T170000
DTEND;TZID=Europe/Berlin:20270208T210000
UID:271-21001-20270208T170000@VHSSTADE
DESCRIPTION:Modul 1
SUMMARY: Pädagogische Mitarbeitende an Grundschulen (im Ganztag) (vhsConcept) - Berufsbegleitende Qualifizierung - (271-21001) 
LOCATION:vhs-Haus, Wallstr. 17, Raum 14, Wallstr. 17, 21682 Stade
END:VEVENT
BEGIN:VEVENT
DTSTAMP:20260421T164327
DTSTART;TZID=Europe/Berlin:20270215T170000
DTEND;TZID=Europe/Berlin:20270215T210000
UID:271-21001-20270215T170000@VHSSTADE
DESCRIPTION:Modul 1
SUMMARY: Pädagogische Mitarbeitende an Grundschulen (im Ganztag) (vhsConcept) - Berufsbegleitende Qualifizierung - (271-21001) 
LOCATION:vhs-Haus, Wallstr. 17, Raum 14, Wallstr. 17, 21682 Stade
END:VEVENT
BEGIN:VEVENT
DTSTAMP:20260421T164327
DTSTART;TZID=Europe/Berlin:20270222T170000
DTEND;TZID=Europe/Berlin:20270222T210000
UID:271-21001-20270222T170000@VHSSTADE
DESCRIPTION:Modul 5
SUMMARY: Pädagogische Mitarbeitende an Grundschulen (im Ganztag) (vhsConcept) - Berufsbegleitende Qualifizierung - (271-21001) 
LOCATION:vhs-Haus, Wallstr. 17, Raum 14, Wallstr. 17, 21682 Stade
END:VEVENT
BEGIN:VEVENT
DTSTAMP:20260421T164327
DTSTART;TZID=Europe/Berlin:20270227T090000
DTEND;TZID=Europe/Berlin:20270227T163000
UID:271-21001-20270227T090000@VHSSTADE
DESCRIPTION:Modul 2
SUMMARY: Pädagogische Mitarbeitende an Grundschulen (im Ganztag) (vhsConcept) - Berufsbegleitende Qualifizierung - (271-21001) 
LOCATION:vhs-Haus, Wallstr. 17, Raum 14, Wallstr. 17, 21682 Stade
END:VEVENT
BEGIN:VEVENT
DTSTAMP:20260421T164327
DTSTART;TZID=Europe/Berlin:20270301T170000
DTEND;TZID=Europe/Berlin:20270301T210000
UID:271-21001-20270301T170000@VHSSTADE
DESCRIPTION:Modul 5
SUMMARY: Pädagogische Mitarbeitende an Grundschulen (im Ganztag) (vhsConcept) - Berufsbegleitende Qualifizierung - (271-21001) 
LOCATION:vhs-Haus, Wallstr. 17, Raum 14, Wallstr. 17, 21682 Stade
END:VEVENT
BEGIN:VEVENT
DTSTAMP:20260421T164327
DTSTART;TZID=Europe/Berlin:20270308T170000
DTEND;TZID=Europe/Berlin:20270308T210000
UID:271-21001-20270308T170000@VHSSTADE
DESCRIPTION:Modul 4
SUMMARY: Pädagogische Mitarbeitende an Grundschulen (im Ganztag) (vhsConcept) - Berufsbegleitende Qualifizierung - (271-21001) 
LOCATION:vhs-Haus, Wallstr. 17, Raum 14, Wallstr. 17, 21682 Stade
END:VEVENT
BEGIN:VEVENT
DTSTAMP:20260421T164327
DTSTART;TZID=Europe/Berlin:20270313T090000
DTEND;TZID=Europe/Berlin:20270313T163000
UID:271-21001-20270313T090000@VHSSTADE
DESCRIPTION:Modul 2
SUMMARY: Pädagogische Mitarbeitende an Grundschulen (im Ganztag) (vhsConcept) - Berufsbegleitende Qualifizierung - (271-21001) 
LOCATION:vhs-Haus, Wallstr. 17, Raum 14, Wallstr. 17, 21682 Stade
END:VEVENT
BEGIN:VEVENT
DTSTAMP:20260421T164327
DTSTART;TZID=Europe/Berlin:20270315T170000
DTEND;TZID=Europe/Berlin:20270315T210000
UID:271-21001-20270315T170000@VHSSTADE
DESCRIPTION:Modul 3
SUMMARY: Pädagogische Mitarbeitende an Grundschulen (im Ganztag) (vhsConcept) - Berufsbegleitende Qualifizierung - (271-21001) 
LOCATION:vhs-Haus, Wallstr. 17, Raum 14, Wallstr. 17, 21682 Stade
END:VEVENT
BEGIN:VEVENT
DTSTAMP:20260421T164327
DTSTART;TZID=Europe/Berlin:20270405T170000
DTEND;TZID=Europe/Berlin:20270405T210000
UID:271-21001-20270405T170000@VHSSTADE
DESCRIPTION:Modul 3
SUMMARY: Pädagogische Mitarbeitende an Grundschulen (im Ganztag) (vhsConcept) - Berufsbegleitende Qualifizierung - (271-21001) 
LOCATION:vhs-Haus, Wallstr. 17, Raum 14, Wallstr. 17, 21682 Stade
END:VEVENT
BEGIN:VEVENT
DTSTAMP:20260421T164327
DTSTART;TZID=Europe/Berlin:20270412T170000
DTEND;TZID=Europe/Berlin:20270412T210000
UID:271-21001-20270412T170000@VHSSTADE
DESCRIPTION:Modul 4
SUMMARY: Pädagogische Mitarbeitende an Grundschulen (im Ganztag) (vhsConcept) - Berufsbegleitende Qualifizierung - (271-21001) 
LOCATION:vhs-Haus, Wallstr. 17, Raum 14, Wallstr. 17, 21682 Stade
END:VEVENT
BEGIN:VEVENT
DTSTAMP:20260421T164327
DTSTART;TZID=Europe/Berlin:20270417T090000
DTEND;TZID=Europe/Berlin:20270417T163000
UID:271-21001-20270417T090000@VHSSTADE
DESCRIPTION:Modul 2
SUMMARY: Pädagogische Mitarbeitende an Grundschulen (im Ganztag) (vhsConcept) - Berufsbegleitende Qualifizierung - (271-21001) 
LOCATION:vhs-Haus, Wallstr. 17, Raum 14, Wallstr. 17, 21682 Stade
END:VEVENT
BEGIN:VEVENT
DTSTAMP:20260421T164327
DTSTART;TZID=Europe/Berlin:20270419T170000
DTEND;TZID=Europe/Berlin:20270419T210000
UID:271-21001-20270419T170000@VHSSTADE
DESCRIPTION:Modul 4
SUMMARY: Pädagogische Mitarbeitende an Grundschulen (im Ganztag) (vhsConcept) - Berufsbegleitende Qualifizierung - (271-21001) 
LOCATION:vhs-Haus, Wallstr. 17, Raum 14, Wallstr. 17, 21682 Stade
END:VEVENT
BEGIN:VEVENT
DTSTAMP:20260421T164327
DTSTART;TZID=Europe/Berlin:20270426T170000
DTEND;TZID=Europe/Berlin:20270426T210000
UID:271-21001-20270426T170000@VHSSTADE
DESCRIPTION:Modul 4
SUMMARY: Pädagogische Mitarbeitende an Grundschulen (im Ganztag) (vhsConcept) - Berufsbegleitende Qualifizierung - (271-21001) 
LOCATION:vhs-Haus, Wallstr. 17, Raum 14, Wallstr. 17, 21682 Stade
END:VEVENT
BEGIN:VEVENT
DTSTAMP:20260421T164327
DTSTART;TZID=Europe/Berlin:20270503T170000
DTEND;TZID=Europe/Berlin:20270503T210000
UID:271-21001-20270503T170000@VHSSTADE
DESCRIPTION:Modul 4
SUMMARY: Pädagogische Mitarbeitende an Grundschulen (im Ganztag) (vhsConcept) - Berufsbegleitende Qualifizierung - (271-21001) 
LOCATION:vhs-Haus, Wallstr. 17, Raum 14, Wallstr. 17, 21682 Stade
END:VEVENT
BEGIN:VEVENT
DTSTAMP:20260421T164327
DTSTART;TZID=Europe/Berlin:20270510T170000
DTEND;TZID=Europe/Berlin:20270510T210000
UID:271-21001-20270510T170000@VHSSTADE
DESCRIPTION:Modul 4
SUMMARY: Pädagogische Mitarbeitende an Grundschulen (im Ganztag) (vhsConcept) - Berufsbegleitende Qualifizierung - (271-21001) 
LOCATION:vhs-Haus, Wallstr. 17, Raum 14, Wallstr. 17, 21682 Stade
END:VEVENT
BEGIN:VEVENT
DTSTAMP:20260421T164327
DTSTART;TZID=Europe/Berlin:20270522T090000
DTEND;TZID=Europe/Berlin:20270522T163000
UID:271-21001-20270522T090000@VHSSTADE
DESCRIPTION:Modul 2
SUMMARY: Pädagogische Mitarbeitende an Grundschulen (im Ganztag) (vhsConcept) - Berufsbegleitende Qualifizierung - (271-21001) 
LOCATION:vhs-Haus, Wallstr. 17, Raum 14, Wallstr. 17, 21682 Stade
END:VEVENT
BEGIN:VEVENT
DTSTAMP:20260421T164327
DTSTART;TZID=Europe/Berlin:20270524T170000
DTEND;TZID=Europe/Berlin:20270524T210000
UID:271-21001-20270524T170000@VHSSTADE
DESCRIPTION:Modul 3
SUMMARY: Pädagogische Mitarbeitende an Grundschulen (im Ganztag) (vhsConcept) - Berufsbegleitende Qualifizierung - (271-21001) 
LOCATION:vhs-Haus, Wallstr. 17, Raum 14, Wallstr. 17, 21682 Stade
END:VEVENT
BEGIN:VEVENT
DTSTAMP:20260421T164327
DTSTART;TZID=Europe/Berlin:20270531T170000
DTEND;TZID=Europe/Berlin:20270531T210000
UID:271-21001-20270531T170000@VHSSTADE
DESCRIPTION:Modul 4
SUMMARY: Pädagogische Mitarbeitende an Grundschulen (im Ganztag) (vhsConcept) - Berufsbegleitende Qualifizierung - (271-21001) 
LOCATION:vhs-Haus, Wallstr. 17, Raum 14, Wallstr. 17, 21682 Stade
END:VEVENT
BEGIN:VEVENT
DTSTAMP:20260421T164327
DTSTART;TZID=Europe/Berlin:20270605T090000
DTEND;TZID=Europe/Berlin:20270605T163000
UID:271-21001-20270605T090000@VHSSTADE
DESCRIPTION:Modul 2+3
SUMMARY: Pädagogische Mitarbeitende an Grundschulen (im Ganztag) (vhsConcept) - Berufsbegleitende Qualifizierung - (271-21001) 
LOCATION:vhs-Haus, Wallstr. 17, Raum 14, Wallstr. 17, 21682 Stade
END:VEVENT
BEGIN:VEVENT
DTSTAMP:20260421T164327
DTSTART;TZID=Europe/Berlin:20270607T170000
DTEND;TZID=Europe/Berlin:20270607T210000
UID:271-21001-20270607T170000@VHSSTADE
DESCRIPTION:Modul 1
SUMMARY: Pädagogische Mitarbeitende an Grundschulen (im Ganztag) (vhsConcept) - Berufsbegleitende Qualifizierung - (271-21001) 
LOCATION:vhs-Haus, Wallstr. 17, Raum 14, Wallstr. 17, 21682 Stade
END:VEVENT
BEGIN:VEVENT
DTSTAMP:20260421T164327
DTSTART;TZID=Europe/Berlin:20270614T170000
DTEND;TZID=Europe/Berlin:20270614T210000
UID:271-21001-20270614T170000@VHSSTADE
DESCRIPTION:Modul 1
SUMMARY: Pädagogische Mitarbeitende an Grundschulen (im Ganztag) (vhsConcept) - Berufsbegleitende Qualifizierung - (271-21001) 
LOCATION:vhs-Haus, Wallstr. 17, Raum 14, Wallstr. 17, 21682 Stade
END:VEVENT
BEGIN:VEVENT
DTSTAMP:20260421T164327
DTSTART;TZID=Europe/Berlin:20270621T170000
DTEND;TZID=Europe/Berlin:20270621T210000
UID:271-21001-20270621T170000@VHSSTADE
DESCRIPTION:Kolloquium
SUMMARY: Pädagogische Mitarbeitende an Grundschulen (im Ganztag) (vhsConcept) - Berufsbegleitende Qualifizierung - (271-21001) 
LOCATION:vhs-Haus, Wallstr. 17, Raum 14, Wallstr. 17, 21682 Stade
END:VEVENT
END:VCALENDAR